BEGIN:VCALENDAR
VERSION:2.0
PRODID:-//Plone.org//NONSGML plone.app.event//EN
X-WR-TIMEZONE:Europe/Zurich
BEGIN:VEVENT
SUMMARY:Anmeldeschluss Freifächer
DTSTART;VALUE=DATE-TIME:20180319T160000Z
DTSTAMP;VALUE=DATE-TIME:20260424T004726Z
UID:2a7b8c61233b4d31982760d2fe7893e1@127.0.0.1:10150
CREATED;VALUE=DATE-TIME:20180301T064445Z
DESCRIPTION:Anmeldeschluss Freifächer
LAST-MODIFIED;VALUE=DATE-TIME:20180301T064449Z
URL:https://gymnasium.ai.ch/nuetzliches/termine/anmeldeschluss-freifaecher
END:VEVENT
END:VCALENDAR
