BEGIN:VCALENDAR
VERSION:2.0
PRODID:-//Plone.org//NONSGML plone.app.event//EN
X-WR-TIMEZONE:Europe/Zurich
BEGIN:VEVENT
SUMMARY:Grundbegabungstest Eintritt 1. Klasse: Anmeldeschluss
DTSTART;VALUE=DATE:20260227
DTEND;VALUE=DATE:20260228
DTSTAMP;VALUE=DATE-TIME:20260423T231654Z
UID:7ce727aad36c4fb1a69ab625f0bbe928@127.0.0.1:6081
CREATED;VALUE=DATE-TIME:20250720T193956Z
LAST-MODIFIED;VALUE=DATE-TIME:20260222T163714Z
URL:https://gymnasium.ai.ch/nuetzliches/termine/anmeldeschluss-grundbegabu
 ngstest-1
END:VEVENT
END:VCALENDAR
