BEGIN:VCALENDAR
VERSION:2.0
PRODID:-//Plone.org//NONSGML plone.app.event//EN
X-WR-TIMEZONE:Europe/Zurich
BEGIN:VEVENT
SUMMARY:Anmeldeschluss: Grundbegabungstest Eintritt 1. Klasse - Schuljahr 
 2023/24 (Nachprüfung)
DTSTART;VALUE=DATE:20230526
DTEND;VALUE=DATE:20230527
DTSTAMP;VALUE=DATE-TIME:20260424T020929Z
UID:a98a2429ba844cee979da430f66d79d0@127.0.0.1:6081
CREATED;VALUE=DATE-TIME:20221013T182203Z
LAST-MODIFIED;VALUE=DATE-TIME:20221013T182545Z
URL:https://gymnasium.ai.ch/nuetzliches/termine/anmeldeschluss-grundbegabu
 ngstest-eintritt-1-klasse-nachpruefung
END:VEVENT
END:VCALENDAR
