BEGIN:VCALENDAR
VERSION:2.0
PRODID:-//Plone.org//NONSGML plone.app.event//EN
X-WR-TIMEZONE:Europe/Zurich
BEGIN:VEVENT
SUMMARY:Anmeldeschluss: Grundbegabungstest Eintritt 1. Gym (Schuljahr 2019
 /20)
DTSTART;VALUE=DATE:20190523
DTEND;VALUE=DATE:20190525
DTSTAMP;VALUE=DATE-TIME:20260424T021057Z
UID:4c5651c1b1934734bb5acffede3b5b15@127.0.0.1:10150
CREATED;VALUE=DATE-TIME:20181218T094814Z
LAST-MODIFIED;VALUE=DATE-TIME:20190220T213629Z
URL:https://gymnasium.ai.ch/nuetzliches/termine/anmeldeschluss-grundbegabu
 ngstest-eintritt-1-klasse-schuljahr-2019-20
END:VEVENT
END:VCALENDAR
