BEGIN:VCALENDAR
VERSION:2.0
PRODID:-//Plone.org//NONSGML plone.app.event//EN
X-WR-TIMEZONE:Europe/Zurich
BEGIN:VEVENT
SUMMARY:Anmeldeschluss: Grundbegabungstest «Eintritt 1. Klasse - Schuljah
 r 2021/22»
DTSTART;VALUE=DATE:20210304
DTEND;VALUE=DATE:20210306
DTSTAMP;VALUE=DATE-TIME:20260423T231817Z
UID:134160615176411993edf421fa5ade4d@127.0.0.1:10150
CREATED;VALUE=DATE-TIME:20201104T081854Z
LAST-MODIFIED;VALUE=DATE-TIME:20201104T081857Z
URL:https://gymnasium.ai.ch/nuetzliches/termine/anmeldeschluss-grundbegabu
 ngstest-eintritt-1-klasse-schuljahr-2021-22
END:VEVENT
END:VCALENDAR
