BEGIN:VCALENDAR
VERSION:2.0
PRODID:-//Plone.org//NONSGML plone.app.event//EN
X-WR-TIMEZONE:Europe/Zurich
BEGIN:VEVENT
SUMMARY:Anmeldeschluss: Grundbegabungstest Eintritt 1. Klasse
DTSTART;VALUE=DATE:20220306
DTEND;VALUE=DATE:20220308
DTSTAMP;VALUE=DATE-TIME:20260424T005431Z
UID:23e9cd1c6c8543d6957bd10b0409a1be@127.0.0.1:10150
CREATED;VALUE=DATE-TIME:20211106T072404Z
LAST-MODIFIED;VALUE=DATE-TIME:20211106T072407Z
URL:https://gymnasium.ai.ch/nuetzliches/termine/anmeldeschluss-grundbegabu
 ngstest-eintritt-1-klasse
END:VEVENT
END:VCALENDAR
