BEGIN:VCALENDAR
VERSION:2.0
PRODID:-//Plone.org//NONSGML plone.app.event//EN
X-WR-TIMEZONE:Europe/Zurich
BEGIN:VEVENT
SUMMARY:Anmeldeschluss Grundbegabungstest (Eintritt 1. Klasse)
DTSTART;VALUE=DATE:20250226
DTEND;VALUE=DATE:20250227
DTSTAMP;VALUE=DATE-TIME:20260423T231615Z
UID:cc3c0e27df4c40ef931304c12a20c03f@127.0.0.1:6081
CREATED;VALUE=DATE-TIME:20240826T133517Z
LAST-MODIFIED;VALUE=DATE-TIME:20241203T103331Z
URL:https://gymnasium.ai.ch/nuetzliches/termine/anmeldeschluss-grundbegabu
 ngstest
END:VEVENT
END:VCALENDAR
