BEGIN:VCALENDAR
VERSION:2.0
PRODID:-//Plone.org//NONSGML plone.app.event//EN
X-WR-TIMEZONE:Europe/Zurich
BEGIN:VEVENT
SUMMARY:Anmeldeschluss Maturaprüfungen 2019 (6. Gym)
DTSTART;VALUE=DATE:20190221
DTEND;VALUE=DATE:20190223
DTSTAMP;VALUE=DATE-TIME:20260423T231821Z
UID:f5174991da5445d4b41bd8f2a7e33f28@127.0.0.1:10150
CREATED;VALUE=DATE-TIME:20190220T211909Z
LAST-MODIFIED;VALUE=DATE-TIME:20190220T211914Z
URL:https://gymnasium.ai.ch/nuetzliches/termine/anmeldeschluss-maturapruef
 ungen-2019-6-gym
END:VEVENT
END:VCALENDAR
