BEGIN:VCALENDAR
VERSION:2.0
PRODID:-//Plone.org//NONSGML plone.app.event//EN
X-WR-TIMEZONE:Europe/Zurich
BEGIN:VEVENT
SUMMARY:Anmeldeschluss Maturaprüfungen 2023: 6. Klassen
DTSTART;VALUE=DATE:20230317
DTEND;VALUE=DATE:20230318
DTSTAMP;VALUE=DATE-TIME:20260423T231820Z
UID:5f2f5e958b384fd8b536b55e81ca4f05@127.0.0.1:6081
CREATED;VALUE=DATE-TIME:20221013T145052Z
LAST-MODIFIED;VALUE=DATE-TIME:20221013T145115Z
URL:https://gymnasium.ai.ch/nuetzliches/termine/anmeldeschluss-maturapruef
 ungen-2023-6-klassen
END:VEVENT
END:VCALENDAR
