BEGIN:VCALENDAR
VERSION:2.0
PRODID:-//Plone.org//NONSGML plone.app.event//EN
X-WR-TIMEZONE:Europe/Zurich
BEGIN:VEVENT
SUMMARY:Anmeldeschluss Maturaprüfungen
DTSTART;VALUE=DATE-TIME:20180223T160000Z
DTSTAMP;VALUE=DATE-TIME:20260423T231758Z
UID:3dbdb1a35f1d43d1bff71be86d9e6fa4@127.0.0.1:10150
CREATED;VALUE=DATE-TIME:20180129T093550Z
DESCRIPTION:Anmeldeschluss Maturaprüfungen 2018 (6. Klasse)
LAST-MODIFIED;VALUE=DATE-TIME:20180129T093554Z
URL:https://gymnasium.ai.ch/nuetzliches/termine/anmeldeschluss-maturapruef
 ungen
END:VEVENT
END:VCALENDAR
