BEGIN:VCALENDAR
VERSION:2.0
PRODID:-//Plone.org//NONSGML plone.app.event//EN
X-WR-TIMEZONE:Europe/Zurich
BEGIN:VEVENT
SUMMARY:Anmeldeschluss Medizinstudium
DTSTART;VALUE=DATE-TIME:20180215T160000Z
DTSTAMP;VALUE=DATE-TIME:20260423T231525Z
UID:9b420a513b1b41ff9768c6130e834f18@127.0.0.1:10150
CREATED;VALUE=DATE-TIME:20180129T092548Z
DESCRIPTION:Medizinstudium: Anmeldeschluss für 2018/19
LAST-MODIFIED;VALUE=DATE-TIME:20180129T092552Z
URL:https://gymnasium.ai.ch/nuetzliches/termine/anmeldeschluss-medizinstud
 ium
END:VEVENT
END:VCALENDAR
