BEGIN:VCALENDAR
VERSION:2.0
PRODID:-//Plone.org//NONSGML plone.app.event//EN
X-WR-TIMEZONE:Europe/Zurich
BEGIN:VEVENT
SUMMARY:Anmeldeschluss: Wahl Schwerpunktfach Schuljahr 2022/23 (2. Klassen
  / Quereinsteigerinnen und Quereinsteiger)
DTSTART;VALUE=DATE:20220519
DTEND;VALUE=DATE:20220521
DTSTAMP;VALUE=DATE-TIME:20260424T021721Z
UID:a3a02d3d8bf94f86b5a584f24e151a92@127.0.0.1:10150
CREATED;VALUE=DATE-TIME:20220506T092636Z
LAST-MODIFIED;VALUE=DATE-TIME:20220506T092639Z
URL:https://gymnasium.ai.ch/nuetzliches/termine/anmeldeschluss-wahl-schwer
 punktfach-schuljahr-2022-23-2-klassen-quereinsteigerinnen-und-quereinsteig
 er
END:VEVENT
END:VCALENDAR
