BEGIN:VCALENDAR
VERSION:2.0
PRODID:-//Plone.org//NONSGML plone.app.event//EN
X-WR-TIMEZONE:Europe/Zurich
BEGIN:VEVENT
SUMMARY:Anmeldeschluss für 2. Klassen und QuereinsteigerInnen: Wahl Schwe
 rpunktfach Schuljahr 2024/25
DTSTART;VALUE=DATE:20240523
DTEND;VALUE=DATE:20240524
DTSTAMP;VALUE=DATE-TIME:20260424T005818Z
UID:038b68d3d06644888459995a8ede8990@127.0.0.1:6081
CREATED;VALUE=DATE-TIME:20240419T091424Z
LAST-MODIFIED;VALUE=DATE-TIME:20240419T091710Z
URL:https://gymnasium.ai.ch/nuetzliches/termine/anmeldeschluss-wahl-schwer
 punktfach-schuljahr-2024-25-2-klassen-und-quereinsteiger
END:VEVENT
END:VCALENDAR
