BEGIN:VCALENDAR
VERSION:2.0
PRODID:-//Plone.org//NONSGML plone.app.event//EN
X-WR-TIMEZONE:Europe/Zurich
BEGIN:VEVENT
SUMMARY:Anmeldeschluss: Wahl Schwerpunktfach Schuljahr 2025/26: 2. Klassen
 /QuereinsteigerInnen
DTSTART;VALUE=DATE:20250522
DTEND;VALUE=DATE:20250523
DTSTAMP;VALUE=DATE-TIME:20260423T231921Z
UID:50f0d81661894c0998292f33fdf1b372@127.0.0.1:6081
CREATED;VALUE=DATE-TIME:20250519T085304Z
LAST-MODIFIED;VALUE=DATE-TIME:20250519T085600Z
URL:https://gymnasium.ai.ch/nuetzliches/termine/anmeldeschluss-wahl-schwer
 punktfach-schuljahr-2025-26-2-klassen-quereinsteiger
END:VEVENT
END:VCALENDAR
