BEGIN:VCALENDAR
VERSION:2.0
PRODID:-//Plone.org//NONSGML plone.app.event//EN
X-WR-TIMEZONE:Europe/Zurich
BEGIN:VEVENT
SUMMARY:Anmeldeschluss Wahlpflichtfach: Schuljahr 2020/21
DTSTART;VALUE=DATE-TIME:20200610T100000Z
DTEND;VALUE=DATE-TIME:20200610T100000Z
DTSTAMP;VALUE=DATE-TIME:20260424T020913Z
UID:d5efb0fc4a2540d0a353c1c7b501b286@127.0.0.1:10150
CREATED;VALUE=DATE-TIME:20200603T200516Z
LAST-MODIFIED;VALUE=DATE-TIME:20200609T180351Z
URL:https://gymnasium.ai.ch/nuetzliches/termine/anmeldeschluss-wahlpflicht
 fach-schuljahr-2020-21
END:VEVENT
END:VCALENDAR
