BEGIN:VCALENDAR
VERSION:2.0
PRODID:-//Plone.org//NONSGML plone.app.event//EN
X-WR-TIMEZONE:Europe/Zurich
BEGIN:VEVENT
SUMMARY:Anmeldeschluss Wahlpflichtfächer
DTSTART;VALUE=DATE:20210511
DTEND;VALUE=DATE:20210513
DTSTAMP;VALUE=DATE-TIME:20260423T231540Z
UID:3c9f47f19449489fa3b9c54808954726@127.0.0.1:10150
CREATED;VALUE=DATE-TIME:20210417T143001Z
LAST-MODIFIED;VALUE=DATE-TIME:20210529T074546Z
URL:https://gymnasium.ai.ch/nuetzliches/termine/anmeldeschluss-wahlpflicht
 faecher-1
END:VEVENT
END:VCALENDAR
