BEGIN:VCALENDAR
VERSION:2.0
PRODID:-//Plone.org//NONSGML plone.app.event//EN
X-WR-TIMEZONE:Europe/Zurich
BEGIN:VEVENT
SUMMARY:Anmeldeschluss: Wahlpflichtfächer
DTSTART;VALUE=DATE:20220510
DTEND;VALUE=DATE:20220512
DTSTAMP;VALUE=DATE-TIME:20260423T231524Z
UID:9ad073969773455291417c406d2f7499@127.0.0.1:10150
CREATED;VALUE=DATE-TIME:20220506T091929Z
LAST-MODIFIED;VALUE=DATE-TIME:20220506T092801Z
URL:https://gymnasium.ai.ch/nuetzliches/termine/anmeldeschluss-wahlpflicht
 faecher-2
END:VEVENT
END:VCALENDAR
