BEGIN:VCALENDAR
VERSION:2.0
PRODID:-//Plone.org//NONSGML plone.app.event//EN
X-WR-TIMEZONE:Europe/Zurich
BEGIN:VEVENT
SUMMARY:Anmeldeschluss Wahlpflichtfächer
DTSTART;VALUE=DATE:20230517
DTEND;VALUE=DATE:20230518
DTSTAMP;VALUE=DATE-TIME:20260424T004731Z
UID:3778c06521b64f0e86888c0f9dd785bf@127.0.0.1:6081
CREATED;VALUE=DATE-TIME:20221013T170611Z
LAST-MODIFIED;VALUE=DATE-TIME:20221013T170636Z
URL:https://gymnasium.ai.ch/nuetzliches/termine/anmeldeschluss-wahlpflicht
 faecher-3
END:VEVENT
END:VCALENDAR
