BEGIN:VCALENDAR
VERSION:2.0
PRODID:-//Plone.org//NONSGML plone.app.event//EN
X-WR-TIMEZONE:Europe/Zurich
BEGIN:VEVENT
SUMMARY:Anmeldeschluss Wahlpflichtfächer
DTSTART;VALUE=DATE:20240515
DTEND;VALUE=DATE:20240516
DTSTAMP;VALUE=DATE-TIME:20260424T004730Z
UID:4911a5c3f52c40469245066ed9b0e2ee@127.0.0.1:6081
CREATED;VALUE=DATE-TIME:20240202T161237Z
LAST-MODIFIED;VALUE=DATE-TIME:20240202T161241Z
URL:https://gymnasium.ai.ch/nuetzliches/termine/anmeldeschluss-wahlpflicht
 faecher-4
END:VEVENT
END:VCALENDAR
