BEGIN:VCALENDAR
VERSION:2.0
PRODID:-//Plone.org//NONSGML plone.app.event//EN
X-WR-TIMEZONE:Europe/Zurich
BEGIN:VEVENT
SUMMARY:Anmeldeschluss Wahlpflichtfächer
DTSTART;VALUE=DATE:20250514
DTEND;VALUE=DATE:20250515
DTSTAMP;VALUE=DATE-TIME:20260424T004730Z
UID:cd4acee0136a4282996af748d8fbc83b@127.0.0.1:6081
CREATED;VALUE=DATE-TIME:20240927T153239Z
LAST-MODIFIED;VALUE=DATE-TIME:20240927T153244Z
URL:https://gymnasium.ai.ch/nuetzliches/termine/anmeldeschluss-wahlpflicht
 faecher-5
END:VEVENT
END:VCALENDAR
