BEGIN:VCALENDAR
VERSION:2.0
PRODID:-//Plone.org//NONSGML plone.app.event//EN
X-WR-TIMEZONE:Europe/Zurich
BEGIN:VEVENT
SUMMARY:Anmeldeschluss Wahlpflichtfächer
DTSTART;VALUE=DATE-TIME:20180608T140000Z
DTEND;VALUE=DATE-TIME:20180608T140000Z
DTSTAMP;VALUE=DATE-TIME:20260423T231525Z
UID:d07fc63ebc774576a8ecc1cd86a01439@127.0.0.1:10150
CREATED;VALUE=DATE-TIME:20180307T100539Z
LAST-MODIFIED;VALUE=DATE-TIME:20180511T065639Z
URL:https://gymnasium.ai.ch/nuetzliches/termine/anmeldeschluss-wahlpflicht
 faecher
END:VEVENT
END:VCALENDAR
