BEGIN:VCALENDAR
VERSION:2.0
PRODID:-//Plone.org//NONSGML plone.app.event//EN
X-WR-TIMEZONE:Europe/Zurich
BEGIN:VEVENT
SUMMARY:Anmeldeschluss zur Prüfung des Cambridge Kurses First (FCE)
DTSTART;VALUE=DATE:20210427
DTEND;VALUE=DATE:20210429
DTSTAMP;VALUE=DATE-TIME:20260423T231806Z
UID:2d0923e17ba949feb5557142168e0c61@127.0.0.1:10150
CREATED;VALUE=DATE-TIME:20210417T193148Z
LAST-MODIFIED;VALUE=DATE-TIME:20210427T150549Z
URL:https://gymnasium.ai.ch/nuetzliches/termine/anmeldeschluss-zur-pruefun
 g-der-cambridge-kurse-first-fce-und-advanced-cae
END:VEVENT
END:VCALENDAR
