BEGIN:VCALENDAR
VERSION:2.0
PRODID:-//Plone.org//NONSGML plone.app.event//EN
X-WR-TIMEZONE:Europe/Zurich
BEGIN:VEVENT
SUMMARY:Anmeldeschluss zur Prüfung des Cambridge Kurses Advanced (CAE)
DTSTART;VALUE=DATE:20210503
DTEND;VALUE=DATE:20210505
DTSTAMP;VALUE=DATE-TIME:20260423T231702Z
UID:16259e71b7db4ebc8e3d28774b548add@127.0.0.1:10150
CREATED;VALUE=DATE-TIME:20210427T150724Z
LAST-MODIFIED;VALUE=DATE-TIME:20210427T150727Z
URL:https://gymnasium.ai.ch/nuetzliches/termine/anmeldeschluss-zur-pruefun
 g-des-cambridge-kurses-advanced-cae
END:VEVENT
END:VCALENDAR
