BEGIN:VCALENDAR
VERSION:2.0
PRODID:-//Plone.org//NONSGML plone.app.event//EN
X-WR-TIMEZONE:Europe/Zurich
BEGIN:VEVENT
SUMMARY:Anmeldeschluss: Prüfung der Cambridge Kurse First (FCE) und Advan
 ced (CAE)
DTSTART;VALUE=DATE:20200503
DTEND;VALUE=DATE:20200505
DTSTAMP;VALUE=DATE-TIME:20260424T005039Z
UID:95fdf36f6f4e4a81be9f75c5fd3922eb@127.0.0.1:10150
CREATED;VALUE=DATE-TIME:20200429T083453Z
LAST-MODIFIED;VALUE=DATE-TIME:20200429T090500Z
URL:https://gymnasium.ai.ch/nuetzliches/termine/anmeldeschluss-zur-pruefun
 g-des-cambridge-kurses-first-fce-und-advanced-cae
END:VEVENT
END:VCALENDAR
