BEGIN:VCALENDAR
VERSION:2.0
PRODID:-//Plone.org//NONSGML plone.app.event//EN
X-WR-TIMEZONE:Europe/Zurich
BEGIN:VEVENT
SUMMARY:Anmeldeschluss zur Prüfung des Cambridge Kurses Proficiency (CPE)
DTSTART;VALUE=DATE:20210426
DTEND;VALUE=DATE:20210428
DTSTAMP;VALUE=DATE-TIME:20260423T231822Z
UID:445306b1376547748aa81acd07f71dcc@127.0.0.1:10150
CREATED;VALUE=DATE-TIME:20210417T204135Z
LAST-MODIFIED;VALUE=DATE-TIME:20210417T204138Z
URL:https://gymnasium.ai.ch/nuetzliches/termine/anmeldeschluss-zur-pruefun
 g-des-cambridge-kurses-proficiency-cpe-1
END:VEVENT
END:VCALENDAR
