BEGIN:VCALENDAR
VERSION:2.0
PRODID:-//Plone.org//NONSGML plone.app.event//EN
X-WR-TIMEZONE:Europe/Zurich
BEGIN:VEVENT
SUMMARY:Anmeldeschluss zur Prüfung des Cambridge Kurses Proficiency (CPE)
DTSTART;VALUE=DATE:20200426
DTEND;VALUE=DATE:20200428
DTSTAMP;VALUE=DATE-TIME:20260423T231828Z
UID:46763197d0e8400c8611582d57881307@127.0.0.1:10150
CREATED;VALUE=DATE-TIME:20200427T150753Z
LAST-MODIFIED;VALUE=DATE-TIME:20200427T150758Z
URL:https://gymnasium.ai.ch/nuetzliches/termine/anmeldeschluss-zur-pruefun
 g-des-cambridge-kurses-proficiency-cpe
END:VEVENT
END:VCALENDAR
