BEGIN:VCALENDAR
VERSION:2.0
PRODID:-//Plone.org//NONSGML plone.app.event//EN
X-WR-TIMEZONE:Europe/Zurich
BEGIN:VEVENT
SUMMARY:Antonius-Festgottesdienst (16.30 Uhr)\, Antoniuspreis (17.30 Uhr)\
 , Volleyballnacht (18.30 Uhr)
DTSTART;VALUE=DATE-TIME:20220610T143000Z
DTEND;VALUE=DATE-TIME:20220610T180000Z
DTSTAMP;VALUE=DATE-TIME:20260424T005945Z
UID:e3f8b49a22c54ec1bb31436ffa4bbf24@127.0.0.1:10150
CREATED;VALUE=DATE-TIME:20220608T141735Z
LAST-MODIFIED;VALUE=DATE-TIME:20220608T141826Z
URL:https://gymnasium.ai.ch/nuetzliches/termine/antonius-festgottesdienst-
 16-30-uhr-antoniuspreis-17-30-uhr-volleyballnacht-18-30-uhr
END:VEVENT
END:VCALENDAR
