BEGIN:VCALENDAR
VERSION:2.0
PRODID:-//Plone.org//NONSGML plone.app.event//EN
X-WR-TIMEZONE:Europe/Zurich
BEGIN:VEVENT
SUMMARY:Antonius-Festgottesdienst (16.30 Uhr)\, Antoniuspreis (17.30 Uhr)\
 , Volleyballnacht (19.00 Uhr)
DTSTART;VALUE=DATE:20250612
DTEND;VALUE=DATE:20250613
DTSTAMP;VALUE=DATE-TIME:20260424T022201Z
UID:dee522a1ec7b426b92874b4a967e77a3@127.0.0.1:6081
CREATED;VALUE=DATE-TIME:20250611T143526Z
LAST-MODIFIED;VALUE=DATE-TIME:20250611T143619Z
URL:https://gymnasium.ai.ch/nuetzliches/termine/antonius-festgottesdienst-
 16-30-uhr-antoniuspreis-17-30-uhr-volleyballnacht-19-00-uhr
END:VEVENT
END:VCALENDAR
