BEGIN:VCALENDAR
VERSION:2.0
PRODID:-//Plone.org//NONSGML plone.app.event//EN
X-WR-TIMEZONE:Europe/Zurich
BEGIN:VEVENT
SUMMARY:Christi Himmelfahrt (schulfrei)
DTSTART;VALUE=DATE:20240509
DTEND;VALUE=DATE:20240510
DTSTAMP;VALUE=DATE-TIME:20260423T231513Z
UID:f09cec14a6f24f1f9d7b55337b9f9859@127.0.0.1:6081
CREATED;VALUE=DATE-TIME:20230714T062034Z
LAST-MODIFIED;VALUE=DATE-TIME:20240410T065829Z
URL:https://gymnasium.ai.ch/nuetzliches/termine/auffahrt-schulfrei
END:VEVENT
END:VCALENDAR
