BEGIN:VCALENDAR
VERSION:2.0
PRODID:-//Plone.org//NONSGML plone.app.event//EN
X-WR-TIMEZONE:Europe/Zurich
BEGIN:VEVENT
SUMMARY:Auffahrtsbrücke (schulfrei)
DTSTART;VALUE=DATE:20200521
DTEND;VALUE=DATE:20200523
DTSTAMP;VALUE=DATE-TIME:20260424T004910Z
UID:6f40bf1d44b942a2a51426770fb5bca6@127.0.0.1:10150
CREATED;VALUE=DATE-TIME:20200520T074158Z
LAST-MODIFIED;VALUE=DATE-TIME:20200520T074206Z
URL:https://gymnasium.ai.ch/nuetzliches/termine/auffahrtsbruecke-schulfrei
 -2
END:VEVENT
END:VCALENDAR
