BEGIN:VCALENDAR
VERSION:2.0
PRODID:-//Plone.org//NONSGML plone.app.event//EN
X-WR-TIMEZONE:Europe/Zurich
BEGIN:VEVENT
SUMMARY:Auffahrtsbrücke (schulfrei)
DTSTART;VALUE=DATE:20220526
DTEND;VALUE=DATE:20220528
DTSTAMP;VALUE=DATE-TIME:20260424T004953Z
UID:9801266d5e7041deb2fca8b08aded61a@127.0.0.1:10150
CREATED;VALUE=DATE-TIME:20220118T125823Z
LAST-MODIFIED;VALUE=DATE-TIME:20220118T125826Z
URL:https://gymnasium.ai.ch/nuetzliches/termine/auffahrtsbruecke-schulfrei
 -4
END:VEVENT
END:VCALENDAR
