BEGIN:VCALENDAR
VERSION:2.0
PRODID:-//Plone.org//NONSGML plone.app.event//EN
X-WR-TIMEZONE:Europe/Zurich
BEGIN:VEVENT
SUMMARY:Auffahrtsbrücke (schulfrei)
DTSTART;VALUE=DATE:20230519
DTEND;VALUE=DATE:20230520
DTSTAMP;VALUE=DATE-TIME:20260424T004952Z
UID:c8aa0d9035c14a3886260690182048ff@127.0.0.1:6081
CREATED;VALUE=DATE-TIME:20221012T163301Z
LAST-MODIFIED;VALUE=DATE-TIME:20221012T163313Z
URL:https://gymnasium.ai.ch/nuetzliches/termine/auffahrtsbruecke-schulfrei
 -5
END:VEVENT
END:VCALENDAR
