BEGIN:VCALENDAR
VERSION:2.0
PRODID:-//Plone.org//NONSGML plone.app.event//EN
X-WR-TIMEZONE:Europe/Zurich
BEGIN:VEVENT
SUMMARY:Auffahrtsbrücke (schulfrei)
DTSTART;VALUE=DATE:20240510
DTEND;VALUE=DATE:20240511
DTSTAMP;VALUE=DATE-TIME:20260424T020826Z
UID:bdc2744f6823487388cc4b4c46058f00@127.0.0.1:6081
CREATED;VALUE=DATE-TIME:20230714T062215Z
LAST-MODIFIED;VALUE=DATE-TIME:20230714T062219Z
URL:https://gymnasium.ai.ch/nuetzliches/termine/auffahrtsbruecke-schulfrei
 -6
END:VEVENT
END:VCALENDAR
