BEGIN:VCALENDAR
VERSION:2.0
PRODID:-//Plone.org//NONSGML plone.app.event//EN
X-WR-TIMEZONE:Europe/Zurich
BEGIN:VEVENT
SUMMARY:Auffahrtsbrücke (schulfrei)
DTSTART;VALUE=DATE:20250530
DTEND;VALUE=DATE:20250531
DTSTAMP;VALUE=DATE-TIME:20260424T004953Z
UID:804343018f354dbc92eaeb11ad1d8ea1@127.0.0.1:6081
CREATED;VALUE=DATE-TIME:20240927T154921Z
LAST-MODIFIED;VALUE=DATE-TIME:20240927T154926Z
URL:https://gymnasium.ai.ch/nuetzliches/termine/auffahrtsbruecke-schulfrei
 -7
END:VEVENT
END:VCALENDAR
