BEGIN:VCALENDAR
VERSION:2.0
PRODID:-//Plone.org//NONSGML plone.app.event//EN
X-WR-TIMEZONE:Europe/Zurich
BEGIN:VEVENT
SUMMARY:Auffahrtsbrücke (schulfrei)
DTSTART;VALUE=DATE:20260515
DTEND;VALUE=DATE:20260516
DTSTAMP;VALUE=DATE-TIME:20260424T020807Z
UID:88d6fb49adee482b97bf65cc6e69b6f2@127.0.0.1:6081
CREATED;VALUE=DATE-TIME:20250720T191336Z
LAST-MODIFIED;VALUE=DATE-TIME:20250720T191341Z
URL:https://gymnasium.ai.ch/nuetzliches/termine/auffahrtsbruecke-schulfrei
 -8
END:VEVENT
END:VCALENDAR
