BEGIN:VCALENDAR
VERSION:2.0
PRODID:-//Plone.org//NONSGML plone.app.event//EN
X-WR-TIMEZONE:Europe/Zurich
BEGIN:VEVENT
SUMMARY:Auffahrtsbrücke (schulfrei)
DTSTART;VALUE=DATE:20180510
DTEND;VALUE=DATE:20180512
DTSTAMP;VALUE=DATE-TIME:20260423T231750Z
UID:1d9a860591c2414895062e58fe81d3de@127.0.0.1:10150
CREATED;VALUE=DATE-TIME:20180307T093257Z
LAST-MODIFIED;VALUE=DATE-TIME:20180511T064403Z
URL:https://gymnasium.ai.ch/nuetzliches/termine/auffahrtsbruecke-schulfrei
END:VEVENT
END:VCALENDAR
