BEGIN:VCALENDAR
VERSION:2.0
PRODID:-//Plone.org//NONSGML plone.app.event//EN
X-WR-TIMEZONE:Europe/Zurich
BEGIN:VEVENT
SUMMARY:Aufnahmekommission
DTSTART;VALUE=DATE:20180323
DTEND;VALUE=DATE:20180325
DTSTAMP;VALUE=DATE-TIME:20260423T231513Z
UID:82e1153b9e85477ea6f00cba5a2da184@127.0.0.1:10150
CREATED;VALUE=DATE-TIME:20180301T065252Z
DESCRIPTION:Sitzung Aufnahmekommission
LAST-MODIFIED;VALUE=DATE-TIME:20180301T065256Z
URL:https://gymnasium.ai.ch/nuetzliches/termine/aufnahmekommission-1
END:VEVENT
END:VCALENDAR
