BEGIN:VCALENDAR
VERSION:2.0
PRODID:-//Plone.org//NONSGML plone.app.event//EN
X-WR-TIMEZONE:Europe/Zurich
BEGIN:VEVENT
SUMMARY:Aufnahmekommission
DTSTART;VALUE=DATE-TIME:20180314T161500Z
DTSTAMP;VALUE=DATE-TIME:20260424T004420Z
UID:9fe5b7544b4647d4bbe141a1a5f44ff5@127.0.0.1:10150
CREATED;VALUE=DATE-TIME:20180301T064002Z
DESCRIPTION:Sitzung Aufnahmekommission (17.15 Uhr\, Lehrerzimmer Gymnasium
 )
LAST-MODIFIED;VALUE=DATE-TIME:20180301T064006Z
URL:https://gymnasium.ai.ch/nuetzliches/termine/aufnahmekommission
END:VEVENT
END:VCALENDAR
