BEGIN:VCALENDAR
VERSION:2.0
PRODID:-//Plone.org//NONSGML plone.app.event//EN
X-WR-TIMEZONE:Europe/Zurich
BEGIN:VEVENT
SUMMARY:Aufnahmeprüfung
DTSTART;VALUE=DATE-TIME:20180313T063000Z
DTSTAMP;VALUE=DATE-TIME:20260423T231512Z
UID:a7e0a47a810d4dd8984abf83a884d2c2@127.0.0.1:10150
CREATED;VALUE=DATE-TIME:20180301T063713Z
DESCRIPTION:Aufnahmeprüfung Eintritt 3. Klasse: 2. Tag
LAST-MODIFIED;VALUE=DATE-TIME:20180301T063716Z
URL:https://gymnasium.ai.ch/nuetzliches/termine/aufnahmepruefung-1
END:VEVENT
END:VCALENDAR
