BEGIN:VCALENDAR
VERSION:2.0
PRODID:-//Plone.org//NONSGML plone.app.event//EN
X-WR-TIMEZONE:Europe/Zurich
BEGIN:VEVENT
SUMMARY:Aufnahmeprüfung 1. Tag (Eintritt 3. Klasse)
DTSTART;VALUE=DATE:20250310
DTEND;VALUE=DATE:20250311
DTSTAMP;VALUE=DATE-TIME:20260423T231655Z
UID:f569d4b944dd4af3bca6647cf2f86412@127.0.0.1:6081
CREATED;VALUE=DATE-TIME:20250226T072528Z
LAST-MODIFIED;VALUE=DATE-TIME:20250226T072617Z
URL:https://gymnasium.ai.ch/nuetzliches/termine/aufnahmepruefung-2-tag-ein
 tritt-3-klasse
END:VEVENT
END:VCALENDAR
