BEGIN:VCALENDAR
VERSION:2.0
PRODID:-//Plone.org//NONSGML plone.app.event//EN
X-WR-TIMEZONE:Europe/Zurich
BEGIN:VEVENT
SUMMARY:Aufnahmeprüfung Eintritt 3. Gym: 1. Tag
DTSTART;VALUE=DATE:20200308
DTEND;VALUE=DATE:20200310
DTSTAMP;VALUE=DATE-TIME:20260424T004952Z
UID:8e43c186dfab4fdf9f9527ba7b485391@127.0.0.1:10150
CREATED;VALUE=DATE-TIME:20191030T150256Z
LAST-MODIFIED;VALUE=DATE-TIME:20191030T150302Z
LOCATION:Gymnasium St. Antonius
URL:https://gymnasium.ai.ch/nuetzliches/termine/aufnahmepruefung-eintritt-
 3-gym-1-tag-1
END:VEVENT
END:VCALENDAR
