BEGIN:VCALENDAR
VERSION:2.0
PRODID:-//Plone.org//NONSGML plone.app.event//EN
X-WR-TIMEZONE:Europe/Zurich
BEGIN:VEVENT
SUMMARY:Aufnahmeprüfung Eintritt 3. Gym: 1. Tag
DTSTART;VALUE=DATE:20190310
DTEND;VALUE=DATE:20190312
DTSTAMP;VALUE=DATE-TIME:20260424T004915Z
UID:f92523ffa46e44d090780c1c1d0bb3e2@127.0.0.1:10150
CREATED;VALUE=DATE-TIME:20190220T211250Z
LAST-MODIFIED;VALUE=DATE-TIME:20190220T211256Z
LOCATION:Gymnasium St. Antonius
URL:https://gymnasium.ai.ch/nuetzliches/termine/aufnahmepruefung-eintritt-
 3-gym-1-tag
END:VEVENT
END:VCALENDAR
