BEGIN:VCALENDAR
VERSION:2.0
PRODID:-//Plone.org//NONSGML plone.app.event//EN
X-WR-TIMEZONE:Europe/Zurich
BEGIN:VEVENT
SUMMARY:Aufnahmeprüfung Eintritt 3. Gym: 2. Tag
DTSTART;VALUE=DATE:20200309
DTEND;VALUE=DATE:20200311
DTSTAMP;VALUE=DATE-TIME:20260424T004911Z
UID:fd46cca83bef49f281ce1f939352daa5@127.0.0.1:10150
CREATED;VALUE=DATE-TIME:20191030T150439Z
LAST-MODIFIED;VALUE=DATE-TIME:20191030T150504Z
LOCATION:Gymnasium St. Antonius
URL:https://gymnasium.ai.ch/nuetzliches/termine/aufnahmepruefung-eintritt-
 3-gym-2-tag-1
END:VEVENT
END:VCALENDAR
