BEGIN:VCALENDAR
VERSION:2.0
PRODID:-//Plone.org//NONSGML plone.app.event//EN
X-WR-TIMEZONE:Europe/Zurich
BEGIN:VEVENT
SUMMARY:Aufnahmeprüfung Eintritt 3. Klasse: 1. Tag
DTSTART;VALUE=DATE:20240311
DTEND;VALUE=DATE:20240312
DTSTAMP;VALUE=DATE-TIME:20260424T004911Z
UID:b41d25a3ba98407c9dd1bf1cf6341e68@127.0.0.1:6081
CREATED;VALUE=DATE-TIME:20231025T072939Z
LAST-MODIFIED;VALUE=DATE-TIME:20231025T072947Z
URL:https://gymnasium.ai.ch/nuetzliches/termine/aufnahmepruefung-eintritt-
 3-klasse-1-tag-1
END:VEVENT
END:VCALENDAR
