BEGIN:VCALENDAR
VERSION:2.0
PRODID:-//Plone.org//NONSGML plone.app.event//EN
X-WR-TIMEZONE:Europe/Zurich
BEGIN:VEVENT
SUMMARY:Aufnahmeprüfung Eintritt 3. Klasse: 1. Tag
DTSTART;VALUE=DATE:20260309
DTEND;VALUE=DATE:20260310
DTSTAMP;VALUE=DATE-TIME:20260423T231700Z
UID:f818bdbb6c7c40e9b67c01403f5eba36@127.0.0.1:6081
CREATED;VALUE=DATE-TIME:20250922T075528Z
LAST-MODIFIED;VALUE=DATE-TIME:20250922T075901Z
URL:https://gymnasium.ai.ch/nuetzliches/termine/aufnahmepruefung-eintritt-
 3-klasse-1-tag-2
END:VEVENT
END:VCALENDAR
