BEGIN:VCALENDAR
VERSION:2.0
PRODID:-//Plone.org//NONSGML plone.app.event//EN
X-WR-TIMEZONE:Europe/Zurich
BEGIN:VEVENT
SUMMARY:Aufnahmeprüfung Eintritt 3. Klasse: 1. Tag
DTSTART;VALUE=DATE:20220313
DTEND;VALUE=DATE:20220315
DTSTAMP;VALUE=DATE-TIME:20260423T231703Z
UID:90ec0a8d7e644cb8b4fec0486a275f85@127.0.0.1:10150
CREATED;VALUE=DATE-TIME:20211106T072700Z
LAST-MODIFIED;VALUE=DATE-TIME:20211106T072704Z
URL:https://gymnasium.ai.ch/nuetzliches/termine/aufnahmepruefung-eintritt-
 3-klasse-1-tag
END:VEVENT
END:VCALENDAR
