BEGIN:VCALENDAR
VERSION:2.0
PRODID:-//Plone.org//NONSGML plone.app.event//EN
X-WR-TIMEZONE:Europe/Zurich
BEGIN:VEVENT
SUMMARY:Aufnahmeprüfung Eintritt 3. Klasse: 2. Tag
DTSTART;VALUE=DATE:20230314
DTEND;VALUE=DATE:20230315
DTSTAMP;VALUE=DATE-TIME:20260423T231700Z
UID:cf96a8e275504ec090e822f433173e2d@127.0.0.1:6081
CREATED;VALUE=DATE-TIME:20221012T190243Z
LAST-MODIFIED;VALUE=DATE-TIME:20221012T190257Z
URL:https://gymnasium.ai.ch/nuetzliches/termine/aufnahmepruefung-eintritt-
 3-klasse-2-tag-1
END:VEVENT
END:VCALENDAR
