BEGIN:VCALENDAR
VERSION:2.0
PRODID:-//Plone.org//NONSGML plone.app.event//EN
X-WR-TIMEZONE:Europe/Zurich
BEGIN:VEVENT
SUMMARY:Aufnahmeprüfung 2. Tag (Eintritt 3. Klasse)
DTSTART;VALUE=DATE:20250311
DTEND;VALUE=DATE:20250312
DTSTAMP;VALUE=DATE-TIME:20260423T231648Z
UID:df4aeae2137145c0a8b4ffb98db4da6c@127.0.0.1:6081
CREATED;VALUE=DATE-TIME:20250226T071859Z
LAST-MODIFIED;VALUE=DATE-TIME:20250226T071953Z
URL:https://gymnasium.ai.ch/nuetzliches/termine/aufnahmepruefung-eintritt-
 3-klasse-2-tag-3
END:VEVENT
END:VCALENDAR
