BEGIN:VCALENDAR
VERSION:2.0
PRODID:-//Plone.org//NONSGML plone.app.event//EN
X-WR-TIMEZONE:Europe/Zurich
BEGIN:VEVENT
SUMMARY:Aufnahmeprüfung Eintritt 3. Klasse: 2. Tag
DTSTART;VALUE=DATE:20260310
DTEND;VALUE=DATE:20260311
DTSTAMP;VALUE=DATE-TIME:20260423T231647Z
UID:1c1fb96dfb5b49c1b9ce611c9c449e8a@127.0.0.1:6081
CREATED;VALUE=DATE-TIME:20250922T075723Z
LAST-MODIFIED;VALUE=DATE-TIME:20250922T075729Z
URL:https://gymnasium.ai.ch/nuetzliches/termine/aufnahmepruefung-eintritt-
 3-klasse-2-tag-4
END:VEVENT
END:VCALENDAR
