BEGIN:VCALENDAR
VERSION:2.0
PRODID:-//Plone.org//NONSGML plone.app.event//EN
X-WR-TIMEZONE:Europe/Zurich
BEGIN:VEVENT
SUMMARY:Aufnahmeprüfung Eintritt 3. Klasse: 2. Tag
DTSTART;VALUE=DATE:20220314
DTEND;VALUE=DATE:20220316
DTSTAMP;VALUE=DATE-TIME:20260423T231655Z
UID:1ef53b89c827401f92c42bfd2cf9eaed@127.0.0.1:10150
CREATED;VALUE=DATE-TIME:20211106T072833Z
LAST-MODIFIED;VALUE=DATE-TIME:20211106T072836Z
URL:https://gymnasium.ai.ch/nuetzliches/termine/aufnahmepruefung-eintritt-
 3-klasse-2-tag
END:VEVENT
END:VCALENDAR
